BEGIN:VCALENDAR
VERSION:2.0
PRODID:-//Big Blue Comics - ECPv6.15.20//NONSGML v1.0//EN
CALSCALE:GREGORIAN
METHOD:PUBLISH
X-WR-CALNAME:Big Blue Comics
X-ORIGINAL-URL:https://bigbluecomics.com
X-WR-CALDESC:Events for Big Blue Comics
REFRESH-INTERVAL;VALUE=DURATION:PT1H
X-Robots-Tag:noindex
X-PUBLISHED-TTL:PT1H
BEGIN:VTIMEZONE
TZID:America/Los_Angeles
BEGIN:DAYLIGHT
TZOFFSETFROM:-0800
TZOFFSETTO:-0700
TZNAME:PDT
DTSTART:20240310T100000
END:DAYLIGHT
BEGIN:STANDARD
TZOFFSETFROM:-0700
TZOFFSETTO:-0800
TZNAME:PST
DTSTART:20241103T090000
END:STANDARD
BEGIN:DAYLIGHT
TZOFFSETFROM:-0800
TZOFFSETTO:-0700
TZNAME:PDT
DTSTART:20250309T100000
END:DAYLIGHT
BEGIN:STANDARD
TZOFFSETFROM:-0700
TZOFFSETTO:-0800
TZNAME:PST
DTSTART:20251102T090000
END:STANDARD
BEGIN:DAYLIGHT
TZOFFSETFROM:-0800
TZOFFSETTO:-0700
TZNAME:PDT
DTSTART:20260308T100000
END:DAYLIGHT
BEGIN:STANDARD
TZOFFSETFROM:-0700
TZOFFSETTO:-0800
TZNAME:PST
DTSTART:20261101T090000
END:STANDARD
END:VTIMEZONE
BEGIN:VEVENT
DTSTART;TZID=America/Los_Angeles:20250927T110000
DTEND;TZID=America/Los_Angeles:20250927T170000
DTSTAMP:20260425T130243
CREATED:20250710T200109Z
LAST-MODIFIED:20250710T200109Z
UID:2047-1758970800-1758992400@bigbluecomics.com
SUMMARY:Kyle J. Kaminski @ Knowhere Games & Comics For Local Comic Shop Day
DESCRIPTION:Big Blue Comics publisher and writer\, Kyle J. Kaminski will be at Knowhere Games and Comics in San Marcos California for Local Comic Shop Day. September 26th comic shops across the world will be celebrating their local customers and communities. Knowhere Games and Comics is the premiere shop in North County San Diego at 125 Vallecitos de Oro ste J\, San Marcos\, CA\, United States\, California. Kyle will be there all day signing books and talking comics.
URL:https://bigbluecomics.com/event/kyle-j-kaminski-knowhere-games-comics-for-local-comic-shop-day/
LOCATION:Knowhere Games and Comics\, 125 Vallecitos de Oro ste J\, San Marcos\, CA\, United States
CATEGORIES:Store Signing
END:VEVENT
END:VCALENDAR