BEGIN:VCALENDAR
VERSION:2.0
PRODID:-//Big Blue Comics - ECPv6.15.20//NONSGML v1.0//EN
CALSCALE:GREGORIAN
METHOD:PUBLISH
X-WR-CALNAME:Big Blue Comics
X-ORIGINAL-URL:https://bigbluecomics.com
X-WR-CALDESC:Events for Big Blue Comics
REFRESH-INTERVAL;VALUE=DURATION:PT1H
X-Robots-Tag:noindex
X-PUBLISHED-TTL:PT1H
BEGIN:VTIMEZONE
TZID:America/Los_Angeles
BEGIN:DAYLIGHT
TZOFFSETFROM:-0800
TZOFFSETTO:-0700
TZNAME:PDT
DTSTART:20240310T100000
END:DAYLIGHT
BEGIN:STANDARD
TZOFFSETFROM:-0700
TZOFFSETTO:-0800
TZNAME:PST
DTSTART:20241103T090000
END:STANDARD
BEGIN:DAYLIGHT
TZOFFSETFROM:-0800
TZOFFSETTO:-0700
TZNAME:PDT
DTSTART:20250309T100000
END:DAYLIGHT
BEGIN:STANDARD
TZOFFSETFROM:-0700
TZOFFSETTO:-0800
TZNAME:PST
DTSTART:20251102T090000
END:STANDARD
BEGIN:DAYLIGHT
TZOFFSETFROM:-0800
TZOFFSETTO:-0700
TZNAME:PDT
DTSTART:20260308T100000
END:DAYLIGHT
BEGIN:STANDARD
TZOFFSETFROM:-0700
TZOFFSETTO:-0800
TZNAME:PST
DTSTART:20261101T090000
END:STANDARD
END:VTIMEZONE
BEGIN:VEVENT
DTSTART;TZID=America/Los_Angeles:20251011T100000
DTEND;TZID=America/Los_Angeles:20251011T140000
DTSTAMP:20260425T114229
CREATED:20251005T175015Z
LAST-MODIFIED:20251005T175015Z
UID:2097-1760176800-1760191200@bigbluecomics.com
SUMMARY:Kyle Kaminski at Write On Oceanside
DESCRIPTION:Big Blue Comics publisher and writer Kyle J. Kaminski will be at Write On\, Oceanside! – Oceanside’s Annual Literary Festival \nCelebrate the power of storytelling at Write On\, Oceanside!\, the city’s premier literary festival highlighting local authors and their work. The 24th annual event will take place Saturday\, October 11\, 2025\, in and around the Oceanside Civic Center Community Rooms from 10:00 – 4:00. \nOrganized by the Oceanside Cultural Arts Foundation and the Oceanside Public Library\, with support from the Friends of the Oceanside Public Library\, this free community festival has grown into one of San Diego County’s largest literary fairs. Don’t miss this inspiring day of books\, authors\, and creativity in the heart of Oceanside.
URL:https://bigbluecomics.com/event/kyle-kaminski-at-write-on-oceanside/
CATEGORIES:Store Signing
ATTACH;FMTTYPE=image/jpeg:https://bigbluecomics.com/wp-content/uploads/2022/12/IMG_E5584-1-1-1.jpg
END:VEVENT
END:VCALENDAR