BEGIN:VCALENDAR
VERSION:2.0
PRODID:-//Big Blue Comics - ECPv6.15.20//NONSGML v1.0//EN
CALSCALE:GREGORIAN
METHOD:PUBLISH
X-WR-CALNAME:Big Blue Comics
X-ORIGINAL-URL:https://bigbluecomics.com
X-WR-CALDESC:Events for Big Blue Comics
REFRESH-INTERVAL;VALUE=DURATION:PT1H
X-Robots-Tag:noindex
X-PUBLISHED-TTL:PT1H
BEGIN:VTIMEZONE
TZID:America/Los_Angeles
BEGIN:DAYLIGHT
TZOFFSETFROM:-0800
TZOFFSETTO:-0700
TZNAME:PDT
DTSTART:20250309T100000
END:DAYLIGHT
BEGIN:STANDARD
TZOFFSETFROM:-0700
TZOFFSETTO:-0800
TZNAME:PST
DTSTART:20251102T090000
END:STANDARD
BEGIN:DAYLIGHT
TZOFFSETFROM:-0800
TZOFFSETTO:-0700
TZNAME:PDT
DTSTART:20260308T100000
END:DAYLIGHT
BEGIN:STANDARD
TZOFFSETFROM:-0700
TZOFFSETTO:-0800
TZNAME:PST
DTSTART:20261101T090000
END:STANDARD
BEGIN:DAYLIGHT
TZOFFSETFROM:-0800
TZOFFSETTO:-0700
TZNAME:PDT
DTSTART:20270314T100000
END:DAYLIGHT
BEGIN:STANDARD
TZOFFSETFROM:-0700
TZOFFSETTO:-0800
TZNAME:PST
DTSTART:20271107T090000
END:STANDARD
END:VTIMEZONE
BEGIN:VEVENT
DTSTART;VALUE=DATE:20260512
DTEND;VALUE=DATE:20260613
DTSTAMP:20260422T151416
CREATED:20250711T173908Z
LAST-MODIFIED:20250925T184748Z
UID:2050-1778544000-1781308799@bigbluecomics.com
SUMMARY:THE RESISTANTS Vol.1 Hard Cover on Kickstarter
DESCRIPTION:https://www.kickstarter.com/projects/bigbluecomics/the-resistants-volume-1-hard-cover-comic-collection \n30 years in the making\, this first THE RESISTANTS collection written by co-creator Kyle J. Kaminski includes all four issues of The Broadcast Offensive mini-series & the Kestrel One-Shot drawn by Jason Johnson. Plus the original stories from the 90s with co-creator Jason Krause\, along with a never before published chapter from 1996\, remastered and recolored by Emmanuel Ordaz Torres. Also includes a 30th anniversary retrospective on the history and evolution of the characters and more in a 150+ page hardcover comic book! \nAn uncompromising strike force of alien refugees\, human outlaws\, and bounty hunters battles an oppressive corporate-state and its secret corrupt alien leadership. \nFeaturing dynamic artwork and compelling stories accessible to multiple generations of readers and perfect for fans of X-Men\, G.I. Joe\, Appleseed\, & character/ action oriented cartoons\, comics\, & anime from the 80s & 90s.
URL:https://bigbluecomics.com/event/the-resistants-vol-1-hard-cover-on-kickstarter/
LOCATION:Kickstarter
CATEGORIES:Kickstarter
END:VEVENT
END:VCALENDAR